BEGIN:VCALENDAR
VERSION:2.0
PRODID:-//CtHIMA - ECPv4.9.12//NONSGML v1.0//EN
CALSCALE:GREGORIAN
METHOD:PUBLISH
X-WR-CALNAME:CtHIMA
X-ORIGINAL-URL:http://cthima.org
X-WR-CALDESC:Events for CtHIMA
BEGIN:VTIMEZONE
TZID:America/New_York
BEGIN:DAYLIGHT
TZOFFSETFROM:-0500
TZOFFSETTO:-0400
TZNAME:EDT
DTSTART:20180311T070000
END:DAYLIGHT
BEGIN:STANDARD
TZOFFSETFROM:-0400
TZOFFSETTO:-0500
TZNAME:EST
DTSTART:20181104T060000
END:STANDARD
END:VTIMEZONE
BEGIN:VEVENT
DTSTART;TZID=America/New_York:20181213T083000
DTEND;TZID=America/New_York:20181213T140000
DTSTAMP:20260424T110630
CREATED:20181127T171614Z
LAST-MODIFIED:20181217T133223Z
UID:749-1544689800-1544709600@cthima.org
SUMMARY:CTHIMA Coding Meeting
DESCRIPTION:CTHIMA Coding Meeting\n12/13/2018\nSheraton Hartford South\n100 Capital Boulevard\nRocky Hill\, CT 06067 \nPresentations\nSnapshot of Registry Coding\nCTHIMA Payer Denial Trends Rocky Hill Dist\nClinical Validation Presentation\nHCCs-The next chapter \n\n\n\n8:30 to 9:00\nRegistration / Continental Breakfast\n\n\n9:00 to 9:45\nSnapshot of Tumor Registry Coding\nPresented by: Kathleen Gould-Mitchell\, RHIA\, CTR\n\n\n9:45 to 10:15\nCTHIMA Business Meeting /Update\nPresented by: Martin Cohen\, RHIT\n\n\n10:15 to 10:30\nBreak\n\n\n10:30 to 11:30\nPayer Denial Trends: Don’t Just Manage Payer Denials\, Prevent Them.\nPresented By Ghil Goyeau\, Solutions Sales Exec\, 3M\n\n\n11:30 to 12:30\nMiddlesex Hospital CDI Program\, and how it relates to Coding.\nPresented by : Alison Yazmer\, RN\, BSN\, CCDS\, CCS\n\n\n12:30 to 1:30\nHCCs: The Next Chapter- Integrating coding\, Quality and CDI to Develop Your HCC Program Across the Continuum.\nPresented by: Phil Goyeau\, Solutions Sales Exec\, 3M\n\n\n1:30 to 2:00\nCoding Roundtable\, Difficult Coding Problems\, Group Discussion\n\n\n\nWe are offering 4 CEU’s for this event. \nMembers $50\nNon Members $60 \nClick here to register \nAny questions please contact Marty Cohen\, mcohen1980@hotmail.com or Tara Katynski\, tjennine74@att.net. \n
URL:http://cthima.org/event/cthima-coding-meeting/
LOCATION:Sheraton Hartford South\, 100 Capital Boulevard\, Rocky Hill\, CT\, 06067\, United States
END:VEVENT
END:VCALENDAR