BEGIN:VCALENDAR
VERSION:2.0
PRODID:-//CtHIMA - ECPv4.9.12//NONSGML v1.0//EN
CALSCALE:GREGORIAN
METHOD:PUBLISH
X-WR-CALNAME:CtHIMA
X-ORIGINAL-URL:http://cthima.org
X-WR-CALDESC:Events for CtHIMA
BEGIN:VTIMEZONE
TZID:America/New_York
BEGIN:DAYLIGHT
TZOFFSETFROM:-0500
TZOFFSETTO:-0400
TZNAME:EDT
DTSTART:20180311T070000
END:DAYLIGHT
BEGIN:STANDARD
TZOFFSETFROM:-0400
TZOFFSETTO:-0500
TZNAME:EST
DTSTART:20181104T060000
END:STANDARD
END:VTIMEZONE
BEGIN:VEVENT
DTSTART;TZID=America/New_York:20180615T083000
DTEND;TZID=America/New_York:20180615T150000
DTSTAMP:20260425T114844
CREATED:20180515T151335Z
LAST-MODIFIED:20180605T152825Z
UID:424-1529051400-1529074800@cthima.org
SUMMARY:Information Governance - Do You Know Where Your Information Is?
DESCRIPTION:June 15th 8:30-3p.m. \nMiddlesex Community College\nFounders Hall Pavilion\n(click here for directions) \nINFORMATION GOVERNANCE – DO YOU KNOW WHERE YOUR INFORMATION IS? \nKeynote speaker: Cindy Zak\, MS\, RHIA\, PMP Executive Director Corporate Business Service\, Yale New Haven Health \nPlease attend this very relative discussion on how to participate or lead managing patient information in your organization. Learn practical steps to take and governance structures used by your colleagues. \nDo you know about GDRP? And how this new regulatory initiative may affect your organization? Learn from our session given by our colleagues at Iron Mountain. \nAnd do you know what Blockchain is? This emerging frontier may help solve some of the industry’s interoperability challenges. Come learn from our guest expert. \nWe will have coffee/tea and lite refreshments for the morning\, followed by our scheduled sessions with a break for a box lunch which is included in the registration. \n5 ceus will be awarded for the full program\n$60 Members/$75 non-members/$20 Students\nWe cross honor our 6 state colleagues at the member price \nAgenda: \n8:30-9:00 Registration coffee/tea lite fare sponsored by Iron Mountain \n9:00-10:30 Iron Mountain presentation on Retention\, Destruction and GDRP\nJason Rawn\, Business Development Executive \n  \n  \n10:30-11:15 Storage and retention best practice – practical applications –\nKaren Lawler\, RHIA\,MPS\,CHPS\, FABC \, Corporate HIM Director and Privacy Officer\, Hospital for Special Care \n  \n  \n11:15-11:30 break \n11:30-12:30 Blockchain what it is and what you need to know –\nRJ Herrick\, Systems Architect\, Guerilla Ontologist \nRJ Herrick graduated UConn with degrees in Philosophy and Psychology before the allure of software development landed him in IT. As a 20 veteran of web development and security\, his experience in keeping up with cutting edge data exchange systems laid the groundwork for his latest enthusiasm: the cryptocurrency ecosystem\, and in particular\, Ethereum smart contracts. As lead instructor for DappDevs\, a blockchain developer community\, he is working to accelerate exploration of the new opportunities afforded by blockchain technologies. When not at the keyboard\, RJ enjoys working outside\, discussing ethics\, and practicing various circus arts. His pronouns are he/him/his. \n12:30-1 Lunch (included) \n1:00-2:30p.m. Information Governance – Yale’s Journey\nCindy Zak\, MS\, RHIA\, PMP Executive Director Corporate Business Service\, Yale New Haven Health \nCindy is the Executive Director responsible for Corporate Health Information Management (HIM)\, at Yale New Haven Health in New Haven\, CT. While at Yale New Haven\, Cindy was responsible for the successful implementation of ICD-10\, centralizing HIM across the System to New Haven and for developing and overseeing the Information Governance Program at Yale New Haven Health. \n2:30-2:45p.m. wrap up and upcoming events – CTHIMA Board \nFor registration details please contact Tara Katynski\, tjennine74@att.net or 203-812-9783. \n
URL:http://cthima.org/event/information-governance-know-information/
LOCATION:Middlesex Community College\, 100 Training Hill Road\, Middletown\, CT\, 06457\, United States
END:VEVENT
END:VCALENDAR