BEGIN:VCALENDAR
VERSION:2.0
PRODID:-//CtHIMA - ECPv4.9.12//NONSGML v1.0//EN
CALSCALE:GREGORIAN
METHOD:PUBLISH
X-WR-CALNAME:CtHIMA
X-ORIGINAL-URL:http://cthima.org
X-WR-CALDESC:Events for CtHIMA
BEGIN:VTIMEZONE
TZID:America/New_York
BEGIN:DAYLIGHT
TZOFFSETFROM:-0500
TZOFFSETTO:-0400
TZNAME:EDT
DTSTART:20260308T070000
END:DAYLIGHT
BEGIN:STANDARD
TZOFFSETFROM:-0400
TZOFFSETTO:-0500
TZNAME:EST
DTSTART:20261101T060000
END:STANDARD
END:VTIMEZONE
BEGIN:VEVENT
DTSTART;TZID=America/New_York:20260513T120000
DTEND;TZID=America/New_York:20260513T130000
DTSTAMP:20260424T071950
CREATED:20260423T142157Z
LAST-MODIFIED:20260423T142549Z
UID:1707-1778673600-1778677200@cthima.org
SUMMARY:Lunch and Learn with the State Office of the Attorney General in CT
DESCRIPTION:Lunch and Learn with the State Office of the Attorney General in CT\, Presented by: Patrick Kania \n1 CEU\n$25 Members\n$35 Non Members\nFree for Students \nPlease contact Tara Katynski at 203-812-9783 or administrator@cthima.org to register and receive links. \n
URL:http://cthima.org/event/lunch-and-learn-with-the-state-office-of-the-attorney-general-in-ct/
LOCATION:Webinar
END:VEVENT
END:VCALENDAR